BEGIN:VCALENDAR
VERSION:2.0
PRODID:-//Fondation CPSDH - ECPv6.9.0//NONSGML v1.0//EN
CALSCALE:GREGORIAN
METHOD:PUBLISH
X-WR-CALNAME:Fondation CPSDH
X-ORIGINAL-URL:https://www.cpsdhnougbo.bj
X-WR-CALDESC:Évènements pour Fondation CPSDH
REFRESH-INTERVAL;VALUE=DURATION:PT1H
X-Robots-Tag:noindex
X-PUBLISHED-TTL:PT1H
BEGIN:VTIMEZONE
TZID:UTC
BEGIN:STANDARD
TZOFFSETFROM:+0000
TZOFFSETTO:+0000
TZNAME:UTC
DTSTART:20220101T000000
END:STANDARD
END:VTIMEZONE
BEGIN:VEVENT
DTSTART;TZID=UTC:20221209T080000
DTEND;TZID=UTC:20221209T170000
DTSTAMP:20260424T182853
CREATED:20210317T023032Z
LAST-MODIFIED:20241115T155927Z
UID:515-1670572800-1670605200@www.cpsdhnougbo.bj
SUMMARY:Protection Cellules d’Entraide TONAKPON
DESCRIPTION:Protection Cellules d’Entraide TONAKPON est un projet à venir de la Fondation CPSDH\, dédié à répondre aux besoins spirituels\, physiques\, et sociaux. Voici les actions que nous allons entreprendre : \n\nMontagnes de prières ATACOCOLAGBE : Création de lieux de recueillement pour des moments de prière intense et de communion spirituelle.\nCentres de santé ATACOCOLAGBE : Mise en place de centres médicaux pour fournir des soins de santé accessibles à tous.\nCentres de réinsertion NOUGBOMATCHI : Aider les anciens prisonniers à se réinsérer dans la société à travers un accompagnement spirituel et pratique.\nFermes agropastorales : Développement de fermes pour promouvoir l’agriculture durable et soutenir les familles.\nFonds de lutte contre la pauvreté : Créer un fonds d’aide pour les missionnaires et les Églises en difficulté.\nPrévention des conflits interreligieux : Favoriser la paix entre communautés religieuses par l’éducation et le dialogue entre leaders.\n\nCe projet incarne notre engagement à servir Dieu et notre prochain\, en transformant des vies à travers des initiatives concrètes.
URL:https://www.cpsdhnougbo.bj/event/fight-for-right-cause/
LOCATION:Bénin\, Benin
CATEGORIES:Seminars
ATTACH;FMTTYPE=image/jpeg:https://www.cpsdhnougbo.bj/wp-content/uploads/2024/10/cps.jpg
ORGANIZER;CN="La FONDATION CPSDH":MAILTO:info@cpsdhnougbo.bj
END:VEVENT
END:VCALENDAR